BEGIN:VCALENDAR
VERSION:2.0
PRODID:-//Down Syndrome Network Oregon - ECPv6.15.20//NONSGML v1.0//EN
CALSCALE:GREGORIAN
METHOD:PUBLISH
X-ORIGINAL-URL:https://dsno.org
X-WR-CALDESC:Events for Down Syndrome Network Oregon
REFRESH-INTERVAL;VALUE=DURATION:PT1H
X-Robots-Tag:noindex
X-PUBLISHED-TTL:PT1H
BEGIN:VTIMEZONE
TZID:America/Los_Angeles
BEGIN:DAYLIGHT
TZOFFSETFROM:-0800
TZOFFSETTO:-0700
TZNAME:PDT
DTSTART:20250309T100000
END:DAYLIGHT
BEGIN:STANDARD
TZOFFSETFROM:-0700
TZOFFSETTO:-0800
TZNAME:PST
DTSTART:20251102T090000
END:STANDARD
BEGIN:DAYLIGHT
TZOFFSETFROM:-0800
TZOFFSETTO:-0700
TZNAME:PDT
DTSTART:20260308T100000
END:DAYLIGHT
BEGIN:STANDARD
TZOFFSETFROM:-0700
TZOFFSETTO:-0800
TZNAME:PST
DTSTART:20261101T090000
END:STANDARD
BEGIN:DAYLIGHT
TZOFFSETFROM:-0800
TZOFFSETTO:-0700
TZNAME:PDT
DTSTART:20270314T100000
END:DAYLIGHT
BEGIN:STANDARD
TZOFFSETFROM:-0700
TZOFFSETTO:-0800
TZNAME:PST
DTSTART:20271107T090000
END:STANDARD
END:VTIMEZONE
BEGIN:VEVENT
DTSTART;TZID=America/Los_Angeles:20260424T180000
DTEND;TZID=America/Los_Angeles:20260424T210000
DTSTAMP:20260421T130601
CREATED:20260401T200312Z
LAST-MODIFIED:20260413T192538Z
UID:10001644-1777053600-1777064400@dsno.org
SUMMARY:Dad's Hangout @ Banff Centre Mountain Film Festival
DESCRIPTION:April’s Dad’s Hangout is headed to Revolution Hall! Meet up with some fellow dads\, watch award-winning films and benefit Adventures Without Limits at the same time. Please pass the word along and we look forward to meeting you/catching up. Registration required for this one to get your discounted ticket\, see below. \nFriday\, April 24 | Doors open at 6 PM\nWe’re catching the Banff Centre Mountain Film Festival World Tour\, one of the world’s most renowned mountain festivals. Fresh from its annual run in Banff\, Canada\, the tour brings a handpicked selection of the most inspiring adventure\, environmental\, and action films to the big screen. So\, snag your discounted ticket below! \nCheck out the trailer here \nThis event supports Adventures Without Limits and its mission of working year-round to provide access to outdoor adventure for all\, regardless of ability or background. \nLocation\nRevolution Hall\n1300 SE Stark St. #203\, Portland \nFee\n$20 per ticket (or pay $32.36 at the door). Scholarships available here.\n \n \nLog In to Register\nThis event is for DSNO members and requires registration. If you are a DSNO member\, please log in here. Otherwise\, review the benefits of a free membership and join today!
URL:https://dsno.org/event/dho-04-24-2026/
CATEGORIES:Dads
ATTACH;FMTTYPE=image/png:https://dsno.org/wp-content/uploads/2025/04/web-copy-18.png
END:VEVENT
BEGIN:VEVENT
DTSTART;TZID=America/Los_Angeles:20260425T160000
DTEND;TZID=America/Los_Angeles:20260425T180000
DTSTAMP:20260421T130601
CREATED:20260407T220410Z
LAST-MODIFIED:20260408T015719Z
UID:10001646-1777132800-1777140000@dsno.org
SUMMARY:Parent's Night Out
DESCRIPTION:Join us for a special Parent’s Night Out! This event is designed to give parents a couple of hours to recharge while their children enjoy a safe\, engaging\, and joy-filled time with caring teen and adult buddies\, including some buddies who also experience Down syndrome. Registration required below. \nSaturday\, April 25 | 4-6 PM\nThis free event is reserved for families with elementary-aged children\, along with their siblings. Each child will be paired with a teen or adult buddy who will spend the time playing games\, making crafts\, and helping them participate in fun activities\, including: \n\nGames and group activities\nArts and crafts\nSnacks and refreshments\nOne-on-one time with their buddy or volunteer\n\nDue to limited capacity\, this event is limited to 20 kids (3 kids per family). In the event capacity is not reached\, there is an option on the registration to request additional spots. \nWe can’t wait to spend a fun time with your kids and give you a well-deserved break! \nLocation\nTeen Lounge @ Christ Church Parish\n1060 Chandler Rd\, Lake Oswego \n \nLog In to Register\nThis event is for DSNO members and requires registration. If you are a DSNO member\, please log in here. Otherwise\, review the benefits of a free membership and join today!
URL:https://dsno.org/event/parents-night-out-2026-04-25/
CATEGORIES:Dads,Family,Kids,Moms
ATTACH;FMTTYPE=image/jpeg:https://dsno.org/wp-content/uploads/2026/04/pno.jpg
END:VEVENT
END:VCALENDAR