BEGIN:VCALENDAR
VERSION:2.0
PRODID:-//Down Syndrome Network Oregon - ECPv6.15.20//NONSGML v1.0//EN
CALSCALE:GREGORIAN
METHOD:PUBLISH
X-ORIGINAL-URL:https://dsno.org
X-WR-CALDESC:Events for Down Syndrome Network Oregon
REFRESH-INTERVAL;VALUE=DURATION:PT1H
X-Robots-Tag:noindex
X-PUBLISHED-TTL:PT1H
BEGIN:VTIMEZONE
TZID:America/Los_Angeles
BEGIN:DAYLIGHT
TZOFFSETFROM:-0800
TZOFFSETTO:-0700
TZNAME:PDT
DTSTART:20240310T100000
END:DAYLIGHT
BEGIN:STANDARD
TZOFFSETFROM:-0700
TZOFFSETTO:-0800
TZNAME:PST
DTSTART:20241103T090000
END:STANDARD
BEGIN:DAYLIGHT
TZOFFSETFROM:-0800
TZOFFSETTO:-0700
TZNAME:PDT
DTSTART:20250309T100000
END:DAYLIGHT
BEGIN:STANDARD
TZOFFSETFROM:-0700
TZOFFSETTO:-0800
TZNAME:PST
DTSTART:20251102T090000
END:STANDARD
BEGIN:DAYLIGHT
TZOFFSETFROM:-0800
TZOFFSETTO:-0700
TZNAME:PDT
DTSTART:20260308T100000
END:DAYLIGHT
BEGIN:STANDARD
TZOFFSETFROM:-0700
TZOFFSETTO:-0800
TZNAME:PST
DTSTART:20261101T090000
END:STANDARD
END:VTIMEZONE
BEGIN:VEVENT
DTSTART;TZID=America/Los_Angeles:20250828T190000
DTEND;TZID=America/Los_Angeles:20250828T190000
DTSTAMP:20260421T154408
CREATED:20250801T233459Z
LAST-MODIFIED:20250802T060501Z
UID:10000723-1756407600-1756407600@dsno.org
SUMMARY:Dad's Hangout @ Next Level Pinball
DESCRIPTION:Dads (or dads-to-be)\, come hang out and connect over food and beverages! Expectant\, inquiring\, new\, and experienced dads welcome. Join us for a fun\, laid-back evening at the Next Level Pinball Museum and Shop. No agenda\, just games\, laughs\, and a chance to hang out with other great dads. Details below. RVSP to dads@dsno.org if you’d like to join. Want to be notified by text of dad’s events? Sign up here. \n\nAdditional Details\n\nEntry Fee is $23 per person (paid at the door). This is a no-host event\, so be ready to cover your own admission and any food or drinks. With over 650 pinball machines and arcade games on the floor\, there’s plenty to keep us entertained! \n\nLocation\n\nNext Level Pinball Museum and Shop\n1458 NE 25th Ave\, Hillsboro \n 
URL:https://dsno.org/event/dads-hangout-aug-2025/
CATEGORIES:Dads
ATTACH;FMTTYPE=image/png:https://dsno.org/wp-content/uploads/2025/08/web-18-1-scaled.png
END:VEVENT
BEGIN:VEVENT
DTSTART;TZID=America/Los_Angeles:20250814T093000
DTEND;TZID=America/Los_Angeles:20250814T110000
DTSTAMP:20260421T154408
CREATED:20250801T233212Z
LAST-MODIFIED:20250801T233212Z
UID:10001162-1755163800-1755169200@dsno.org
SUMMARY:Young Family Playdate
DESCRIPTION:We invite you to come hangout\, play\, enjoy some snacks and relax with one another at this monthly playdate. In August we are meeting at GiGi’s Playhouse. This is a great opportunity to connect with other parents who are at a similar stage on this beautiful journey. While geared typically for young families\, all are ages are welcome! Register below.\n \n\nRegistration Details\n\n \nLog In to Register\nThis event is for DSNO members and requires registration. If you are a DSNO member\, please log in here. Otherwise\, review the benefits of a free membership and join today!\n \nLocation\nGigi’s Playhouse\n﻿8538 SW Apple Way\, Portland \nQuestions?\nContact Tiffany.
URL:https://dsno.org/event/young-family-playdate-aug-2025/
CATEGORIES:Dads,Family,Kids,Moms,Parents 0-5
ATTACH;FMTTYPE=image/png:https://dsno.org/wp-content/uploads/2025/04/web-copy-16.png
END:VEVENT
BEGIN:VEVENT
DTSTART;TZID=America/Los_Angeles:20250718T190000
DTEND;TZID=America/Los_Angeles:20250718T210000
DTSTAMP:20260421T154408
CREATED:20250716T031628Z
LAST-MODIFIED:20250716T031629Z
UID:10000722-1752865200-1752872400@dsno.org
SUMMARY:Dad's Hangout
DESCRIPTION:Dads (or dads-to-be)\, come hang out and connect over food and beverages! Expectant\, inquiring\, new\, and experienced dads welcome. We meet typically on the third Friday evening of each month and we’ll send the meetup location as we get closer to the date. Appetizers provided by DSNO\, dinner and drinks are no-host. Please pass the word along and we look forward to meeting you/catching up. RVSP to dads@dsno.org if you’d like to join. Want to be notified by text of dad’s events? Sign up here. \n\nLocation Details\n\nLocation TBA \n 
URL:https://dsno.org/event/dads-hangout-3/2025-07-18/
CATEGORIES:Dads
ATTACH;FMTTYPE=image/png:https://dsno.org/wp-content/uploads/2025/04/web-copy-18.png
END:VEVENT
BEGIN:VEVENT
DTSTART;TZID=America/Los_Angeles:20250628T110000
DTEND;TZID=America/Los_Angeles:20250628T130000
DTSTAMP:20260421T154408
CREATED:20250530T044101Z
LAST-MODIFIED:20250602T213918Z
UID:10000721-1751108400-1751115600@dsno.org
SUMMARY:Dad's Hike
DESCRIPTION:Dads (or dads-to-be)\, take a break from the usual routine and join us for another refreshing hike with a great group of fellow fathers. It’s a chance to enjoy the outdoors\, swap stories\, and recharge with some good company. The plan is to make a round trip up on Wildwood Trail\, starting at NW Cornell Rd\, towards Pittock Mansion\, see the grounds and hike back. After the hike\, stick around for an optional lunch nearby. Please pass the word along and we look forward to meeting you/catching up. RVSP to dads@dsno.org if you’d like to join. Want to be notified by text of dad’s events? Sign up here. \nLocation\nParking available here near the Wildwood Trail @ NW Cornell Rd
URL:https://dsno.org/event/dads-hangout-2025-06-28/
CATEGORIES:Dads
ATTACH;FMTTYPE=image/png:https://dsno.org/wp-content/uploads/2025/04/web-copy-18.png
END:VEVENT
BEGIN:VEVENT
DTSTART;TZID=America/Los_Angeles:20250628T093000
DTEND;TZID=America/Los_Angeles:20250628T113000
DTSTAMP:20260421T154408
CREATED:20250507T231051Z
LAST-MODIFIED:20250508T010754Z
UID:10000715-1751103000-1751110200@dsno.org
SUMMARY:Young Family Playdate
DESCRIPTION:We invite you to come hangout\, play and catch up with one another at this monthly playdate. This is a great opportunity to connect with other parents who are at a similar stage on this beautiful journey. While geared primarily for young families\, all ages are welcome! Bring a friend. \n\nRegistration Details\n\n \nLog In to Register\nThis event is for DSNO members and requires registration. If you are a DSNO member\, please log in here. Otherwise\, review the benefits of a free membership and join today!\n \nLocation\nCook Park\n﻿17005 SW 92nd Ave\, Tigard \nWho’s it for?\nAll DSNO families \n\nQuestions?\nContact Tiffany.
URL:https://dsno.org/event/young-family-playdate-2025-06-28/
CATEGORIES:Dads,Family,Kids,Moms,Parents 0-5
ATTACH;FMTTYPE=image/png:https://dsno.org/wp-content/uploads/2025/04/web-copy-16.png
END:VEVENT
BEGIN:VEVENT
DTSTART;TZID=America/Los_Angeles:20250607T150000
DTEND;TZID=America/Los_Angeles:20250607T180000
DTSTAMP:20260421T154408
CREATED:20250430T190540Z
LAST-MODIFIED:20250430T191235Z
UID:10000764-1749308400-1749319200@dsno.org
SUMMARY:Family Summer Kickoff @ Sherwood YMCA
DESCRIPTION:Join us as we kick off the summer at Sherwood YMCA for an all-family DSNO gathering! Enjoy connecting with other families while we enjoy the entire facility\, including: swimming in the pool (lifeguards provided)\, sport court fun where volunteers facilitate some fun activities\, rock wall\, and a room for crafts\, snacks\, and beverages. Registration is required. Contact Tiffany with questions. \n \nLog In to Register\nThis event is for DSNO members and requires registration. If you are a DSNO member\, please log in here. Otherwise\, review the benefits of a free membership and join today!\n \n\nJune 7\, 2025 | 3-6 PM\nFee: $30 per family. Scholarship requests available here. Registration is required.\n\nSherwood YMCA\n23000 SW Pacific Hwy\, Sherwood \nFor those that request one during registration\, we will provide a buddy to hang out with your kiddo in the gym if we have enough volunteers. \nDon’t miss this opportunity to meet and/or re-connect with other families!
URL:https://dsno.org/event/family-summer-kickoff-25/
CATEGORIES:Adults,Dads,Family,Kids,Moms,Parents 0-5,Teens,Young Adults
ATTACH;FMTTYPE=image/png:https://dsno.org/wp-content/uploads/2025/04/web-copy-13.png
END:VEVENT
BEGIN:VEVENT
DTSTART;TZID=America/Los_Angeles:20250531T093000
DTEND;TZID=America/Los_Angeles:20250531T113000
DTSTAMP:20260421T154408
CREATED:20250507T230949Z
LAST-MODIFIED:20250508T010726Z
UID:10000714-1748683800-1748691000@dsno.org
SUMMARY:Young Family Playdate
DESCRIPTION:We invite you to come hangout\, play and catch up with one another at this monthly playdate. This is a great opportunity to connect with other parents who are at a similar stage on this beautiful journey. While geared primarily for young families\, all ages are welcome! Bring a friend. \n\nRegistration Details\n\n \nLog In to Register\nThis event is for DSNO members and requires registration. If you are a DSNO member\, please log in here. Otherwise\, review the benefits of a free membership and join today!\n \nLocation\nCook Park\n﻿17005 SW 92nd Ave\, Tigard \nWho’s it for?\nAll DSNO families \n\nQuestions?\nContact Tiffany.
URL:https://dsno.org/event/young-family-playdate-2025-05-31/
CATEGORIES:Dads,Family,Kids,Moms,Parents 0-5
ATTACH;FMTTYPE=image/png:https://dsno.org/wp-content/uploads/2025/04/web-copy-16.png
END:VEVENT
BEGIN:VEVENT
DTSTART;TZID=America/Los_Angeles:20250517T090000
DTEND;TZID=America/Los_Angeles:20250517T110000
DTSTAMP:20260421T154408
CREATED:20250507T232121Z
LAST-MODIFIED:20250508T230100Z
UID:10000720-1747472400-1747479600@dsno.org
SUMMARY:Dad's Hike
DESCRIPTION:Dads (or dads-to-be)\, Take a break from the usual routine and join us for a refreshing hike with a great group of fellow fathers. It’s a chance to enjoy the outdoors\, swap stories\, and recharge with some good company.﻿ The plan is to cover about 2.5 miles. After the hike\, stick around for an optional lunch nearby. Please pass the word along and we look forward to meeting you/catching up. RVSP to dads@dsno.org if you’d like to join. Want to be notified by text of dad’s events? Sign up here. \n\nLocation Details\n\nWildwood Trailhead\n2999 NW 53rd Dr\, Portland \n 
URL:https://dsno.org/event/dads-hike-2025-05-17/
CATEGORIES:Dads
ATTACH;FMTTYPE=image/png:https://dsno.org/wp-content/uploads/2025/05/web.png
END:VEVENT
BEGIN:VEVENT
DTSTART;TZID=America/Los_Angeles:20250503T100000
DTEND;TZID=America/Los_Angeles:20250503T120000
DTSTAMP:20260421T154408
CREATED:20250201T201501Z
LAST-MODIFIED:20250421T194614Z
UID:10000762-1746266400-1746273600@dsno.org
SUMMARY:Parent Workshop: So Happy to Learn
DESCRIPTION:We invite you to join us as our board member\, parent\, and educator Amber Petty-Kilbarger provides informational parent workshops on the So Happy to Learn program. So Happy to Learn is an engaging educational approach that incorporates key subjects—reading\, math\, writing\, speech\, art\, and listening—designed for learners of all ages and unique learning needs. Light refreshments available\, and childcare is not provided. Additional information below. Registration is required. \n\nRegistration Details\n\n \nLog In to Register\nThis event is for DSNO members and requires registration. If you are a DSNO member\, please log in here. Otherwise\, review the benefits of a free membership and join today!\n \nLocation\nBull Mountain area of Tigard\, address to be provided upon registration \nWhat to Expect\n\nOverview of the Program: Learn how So Happy to Learn supports the development of essential skills in children.\nMaterials & Resources: Amber will share examples of how the curriculum can be used at home or integrated into the school curriculum.\nQ&A Session: Amber will answer all your questions to ensure you feel confident and prepared to determine if this program will benefit your child.\n\n\nWho’s it for?\n\nParents and caregivers who are interested in supporting their children’s learning.\nTeachers looking for fresh\, multi-disciplinary approaches to engage their students.\nAnyone eager to learn more about an interactive and comprehensive educational program.\n\n\nQuestions?\nContact Tiffany.
URL:https://dsno.org/event/parent-workshop-so-happy-to-learn/2025-05-03/
CATEGORIES:Dads,Moms,Parents 0-5
ATTACH;FMTTYPE=image/png:https://dsno.org/wp-content/uploads/2025/04/web-copy-10.png
END:VEVENT
BEGIN:VEVENT
DTSTART;TZID=America/Los_Angeles:20250425T190000
DTEND;TZID=America/Los_Angeles:20250425T210000
DTSTAMP:20260421T154408
CREATED:20250418T035511Z
LAST-MODIFIED:20250425T022833Z
UID:10000719-1745607600-1745614800@dsno.org
SUMMARY:Dad's Hangout @ Banff Centre Mountain Film Festival World Tour (Night 2)
DESCRIPTION:Dads (or dads-to-be)\, come hang out and connect over food and beverages! Expectant\, inquiring\, new\, and experienced dads welcome. \nThis month’s Dad’s Hangout is headed to Revolution Hall!  \nRevolution Hall\n1300 SE Stark St. #203\, Portland \nMeet up with some fellow dads\, watch award-winning films and benefit Adventures Without Limits at the same time. We’re catching the Banff Centre Mountain Film Festival World Tour\, one of the world’s most renowned mountain festivals. Fresh from its annual run in Banff\, Canada\, the tour brings a handpicked selection of the most inspiring adventure\, environmental\, and action films to the big screen. So\, snag your ticket for Night 2 here and let us know you are in by emailing dads@dsno.org. \nTo learn more\, watch the trailer. \nThis event supports Adventures Without Limits and its mission of working year-round to provide access to outdoor adventure for all\, regardless of ability or background. \nQuestions/RSVP: reach out to dads@dsno.org.
URL:https://dsno.org/event/dads-hangout-banff/
CATEGORIES:Dads
ATTACH;FMTTYPE=image/webp:https://dsno.org/wp-content/uploads/2025/04/banff.webp
END:VEVENT
BEGIN:VEVENT
DTSTART;TZID=America/Los_Angeles:20250424T090000
DTEND;TZID=America/Los_Angeles:20250424T110000
DTSTAMP:20260421T154408
CREATED:20250201T205803Z
LAST-MODIFIED:20250414T042859Z
UID:10000713-1745485200-1745492400@dsno.org
SUMMARY:Young Family Playdate
DESCRIPTION:The Collinsworth Family invites you to come hangout\, play\, enjoy some snacks and relax with one another at this monthly playdate on a Thursday from 9-11am. This is a great opportunity to connect with other parents who are at a similar stage on this beautiful journey. While geared primarily for young families\, all ages are welcome! Registration is required. \n\nRegistration Details\n\n \nLog In to Register\nThis event is for DSNO members and requires registration. If you are a DSNO member\, please log in here. Otherwise\, review the benefits of a free membership and join today!\n \nLocation\nCollinsworth Home in south Beaverton\, address to be provided upon registration \nWho’s it for?\nAll DSNO families \n\nQuestions?\nContact Tiffany.
URL:https://dsno.org/event/young-family-playdate/2025-04-24/
CATEGORIES:Dads,Family,Kids,Moms,Parents 0-5
ATTACH;FMTTYPE=image/png:https://dsno.org/wp-content/uploads/2025/04/web-copy-16.png
END:VEVENT
BEGIN:VEVENT
DTSTART;TZID=America/Los_Angeles:20250321T190000
DTEND;TZID=America/Los_Angeles:20250321T210000
DTSTAMP:20260421T154408
CREATED:20250201T212204Z
LAST-MODIFIED:20250414T042513Z
UID:10000761-1742583600-1742590800@dsno.org
SUMMARY:Dad's Hangout
DESCRIPTION:Dads (or dads-to-be)\, come hang out and connect over food and beverages! Expectant\, inquiring\, new\, and experienced dads welcome. We meet typically on the third Friday evening of each month and we’ll send the meetup location as we get closer to the date. Appetizers provided by DSNO\, dinner and drinks are no-host. Please pass the word along and we look forward to meeting you/catching up. RVSP to dads@dsno.org if you’d like to join. Want to be notified by text of dad’s events? Sign up here. \n\nLocation Details\n\nLocation TBA \n 
URL:https://dsno.org/event/dads-hangout/2025-03-21/
CATEGORIES:Dads
ATTACH;FMTTYPE=image/png:https://dsno.org/wp-content/uploads/2025/04/web-copy-18.png
END:VEVENT
BEGIN:VEVENT
DTSTART;TZID=America/Los_Angeles:20250315T100000
DTEND;TZID=America/Los_Angeles:20250315T120000
DTSTAMP:20260421T154408
CREATED:20250201T201501Z
LAST-MODIFIED:20250421T194614Z
UID:10000740-1742032800-1742040000@dsno.org
SUMMARY:Parent Workshop: So Happy to Learn
DESCRIPTION:We invite you to join us as our board member\, parent\, and educator Amber Petty-Kilbarger provides informational parent workshops on the So Happy to Learn program. So Happy to Learn is an engaging educational approach that incorporates key subjects—reading\, math\, writing\, speech\, art\, and listening—designed for learners of all ages and unique learning needs. Light refreshments available\, and childcare is not provided. Additional information below. Registration is required. \n\nRegistration Details\n\n \nLog In to Register\nThis event is for DSNO members and requires registration. If you are a DSNO member\, please log in here. Otherwise\, review the benefits of a free membership and join today!\n \nLocation\nBull Mountain area of Tigard\, address to be provided upon registration \nWhat to Expect\n\nOverview of the Program: Learn how So Happy to Learn supports the development of essential skills in children.\nMaterials & Resources: Amber will share examples of how the curriculum can be used at home or integrated into the school curriculum.\nQ&A Session: Amber will answer all your questions to ensure you feel confident and prepared to determine if this program will benefit your child.\n\n\nWho’s it for?\n\nParents and caregivers who are interested in supporting their children’s learning.\nTeachers looking for fresh\, multi-disciplinary approaches to engage their students.\nAnyone eager to learn more about an interactive and comprehensive educational program.\n\n\nQuestions?\nContact Tiffany.
URL:https://dsno.org/event/parent-workshop-so-happy-to-learn/2025-03-15/
CATEGORIES:Dads,Moms,Parents 0-5
ATTACH;FMTTYPE=image/png:https://dsno.org/wp-content/uploads/2025/04/web-copy-10.png
END:VEVENT
BEGIN:VEVENT
DTSTART;TZID=America/Los_Angeles:20250227T090000
DTEND;TZID=America/Los_Angeles:20250227T110000
DTSTAMP:20260421T154408
CREATED:20250205T214017Z
LAST-MODIFIED:20250414T042421Z
UID:10000711-1740646800-1740654000@dsno.org
SUMMARY:Young Family Playdate
DESCRIPTION:The Collinsworth Family invites you to come hangout\, play\, enjoy some snacks and relax with one another at this monthly playdate on a Thursday from 9-11am. This is a great opportunity to connect with other parents who are at a similar stage on this beautiful journey. While geared primarily for young families\, all ages are welcome! Registration is required. \n\nRegistration Details\n\n \nLog In to Register\nThis event is for DSNO members and requires registration. If you are a DSNO member\, please log in here. Otherwise\, review the benefits of a free membership and join today!\n \nLocation\nCollinsworth Home in south Beaverton\, address to be provided upon registration \nWho’s it for?\nAll DSNO families \n\nQuestions?\nContact Tiffany.
URL:https://dsno.org/event/young-family-playdate-2/
CATEGORIES:Dads,Family,Kids,Moms,Parents 0-5
ATTACH;FMTTYPE=image/png:https://dsno.org/wp-content/uploads/2025/04/web-copy-16.png
END:VEVENT
BEGIN:VEVENT
DTSTART;TZID=America/Los_Angeles:20250221T190000
DTEND;TZID=America/Los_Angeles:20250221T210000
DTSTAMP:20260421T154408
CREATED:20250201T212204Z
LAST-MODIFIED:20250414T042513Z
UID:10000717-1740164400-1740171600@dsno.org
SUMMARY:Dad's Hangout
DESCRIPTION:Dads (or dads-to-be)\, come hang out and connect over food and beverages! Expectant\, inquiring\, new\, and experienced dads welcome. We meet typically on the third Friday evening of each month and we’ll send the meetup location as we get closer to the date. Appetizers provided by DSNO\, dinner and drinks are no-host. Please pass the word along and we look forward to meeting you/catching up. RVSP to dads@dsno.org if you’d like to join. Want to be notified by text of dad’s events? Sign up here. \n\nLocation Details\n\nLocation TBA \n 
URL:https://dsno.org/event/dads-hangout/2025-02-21/
CATEGORIES:Dads
ATTACH;FMTTYPE=image/png:https://dsno.org/wp-content/uploads/2025/04/web-copy-18.png
END:VEVENT
BEGIN:VEVENT
DTSTART;TZID=America/Los_Angeles:20250215T100000
DTEND;TZID=America/Los_Angeles:20250215T120000
DTSTAMP:20260421T154408
CREATED:20250201T201501Z
LAST-MODIFIED:20250421T194614Z
UID:10000709-1739613600-1739620800@dsno.org
SUMMARY:Parent Workshop: So Happy to Learn
DESCRIPTION:We invite you to join us as our board member\, parent\, and educator Amber Petty-Kilbarger provides informational parent workshops on the So Happy to Learn program. So Happy to Learn is an engaging educational approach that incorporates key subjects—reading\, math\, writing\, speech\, art\, and listening—designed for learners of all ages and unique learning needs. Light refreshments available\, and childcare is not provided. Additional information below. Registration is required. \n\nRegistration Details\n\n \nLog In to Register\nThis event is for DSNO members and requires registration. If you are a DSNO member\, please log in here. Otherwise\, review the benefits of a free membership and join today!\n \nLocation\nBull Mountain area of Tigard\, address to be provided upon registration \nWhat to Expect\n\nOverview of the Program: Learn how So Happy to Learn supports the development of essential skills in children.\nMaterials & Resources: Amber will share examples of how the curriculum can be used at home or integrated into the school curriculum.\nQ&A Session: Amber will answer all your questions to ensure you feel confident and prepared to determine if this program will benefit your child.\n\n\nWho’s it for?\n\nParents and caregivers who are interested in supporting their children’s learning.\nTeachers looking for fresh\, multi-disciplinary approaches to engage their students.\nAnyone eager to learn more about an interactive and comprehensive educational program.\n\n\nQuestions?\nContact Tiffany.
URL:https://dsno.org/event/parent-workshop-so-happy-to-learn/2025-02-15/
CATEGORIES:Dads,Moms,Parents 0-5
ATTACH;FMTTYPE=image/png:https://dsno.org/wp-content/uploads/2025/04/web-copy-10.png
END:VEVENT
BEGIN:VEVENT
DTSTART;TZID=America/Los_Angeles:20250130T090000
DTEND;TZID=America/Los_Angeles:20250130T110000
DTSTAMP:20260421T154408
CREATED:20250201T205803Z
LAST-MODIFIED:20250414T042859Z
UID:10000710-1738227600-1738234800@dsno.org
SUMMARY:Young Family Playdate
DESCRIPTION:The Collinsworth Family invites you to come hangout\, play\, enjoy some snacks and relax with one another at this monthly playdate on a Thursday from 9-11am. This is a great opportunity to connect with other parents who are at a similar stage on this beautiful journey. While geared primarily for young families\, all ages are welcome! Registration is required. \n\nRegistration Details\n\n \nLog In to Register\nThis event is for DSNO members and requires registration. If you are a DSNO member\, please log in here. Otherwise\, review the benefits of a free membership and join today!\n \nLocation\nCollinsworth Home in south Beaverton\, address to be provided upon registration \nWho’s it for?\nAll DSNO families \n\nQuestions?\nContact Tiffany.
URL:https://dsno.org/event/young-family-playdate/2025-01-30/
CATEGORIES:Dads,Family,Kids,Moms,Parents 0-5
ATTACH;FMTTYPE=image/png:https://dsno.org/wp-content/uploads/2025/04/web-copy-16.png
END:VEVENT
BEGIN:VEVENT
DTSTART;TZID=America/Los_Angeles:20250118T100000
DTEND;TZID=America/Los_Angeles:20250118T120000
DTSTAMP:20260421T154408
CREATED:20250201T201501Z
LAST-MODIFIED:20250421T194614Z
UID:10000708-1737194400-1737201600@dsno.org
SUMMARY:Parent Workshop: So Happy to Learn
DESCRIPTION:We invite you to join us as our board member\, parent\, and educator Amber Petty-Kilbarger provides informational parent workshops on the So Happy to Learn program. So Happy to Learn is an engaging educational approach that incorporates key subjects—reading\, math\, writing\, speech\, art\, and listening—designed for learners of all ages and unique learning needs. Light refreshments available\, and childcare is not provided. Additional information below. Registration is required. \n\nRegistration Details\n\n \nLog In to Register\nThis event is for DSNO members and requires registration. If you are a DSNO member\, please log in here. Otherwise\, review the benefits of a free membership and join today!\n \nLocation\nBull Mountain area of Tigard\, address to be provided upon registration \nWhat to Expect\n\nOverview of the Program: Learn how So Happy to Learn supports the development of essential skills in children.\nMaterials & Resources: Amber will share examples of how the curriculum can be used at home or integrated into the school curriculum.\nQ&A Session: Amber will answer all your questions to ensure you feel confident and prepared to determine if this program will benefit your child.\n\n\nWho’s it for?\n\nParents and caregivers who are interested in supporting their children’s learning.\nTeachers looking for fresh\, multi-disciplinary approaches to engage their students.\nAnyone eager to learn more about an interactive and comprehensive educational program.\n\n\nQuestions?\nContact Tiffany.
URL:https://dsno.org/event/parent-workshop-so-happy-to-learn/2025-01-18/
CATEGORIES:Dads,Moms,Parents 0-5
ATTACH;FMTTYPE=image/png:https://dsno.org/wp-content/uploads/2025/04/web-copy-10.png
END:VEVENT
END:VCALENDAR