BEGIN:VCALENDAR
VERSION:2.0
PRODID:-//Down Syndrome Network Oregon - ECPv6.15.20//NONSGML v1.0//EN
CALSCALE:GREGORIAN
METHOD:PUBLISH
X-WR-CALNAME:Down Syndrome Network Oregon
X-ORIGINAL-URL:https://dsno.org
X-WR-CALDESC:Events for Down Syndrome Network Oregon
REFRESH-INTERVAL;VALUE=DURATION:PT1H
X-Robots-Tag:noindex
X-PUBLISHED-TTL:PT1H
BEGIN:VTIMEZONE
TZID:America/Los_Angeles
BEGIN:DAYLIGHT
TZOFFSETFROM:-0800
TZOFFSETTO:-0700
TZNAME:PDT
DTSTART:20250309T100000
END:DAYLIGHT
BEGIN:STANDARD
TZOFFSETFROM:-0700
TZOFFSETTO:-0800
TZNAME:PST
DTSTART:20251102T090000
END:STANDARD
BEGIN:DAYLIGHT
TZOFFSETFROM:-0800
TZOFFSETTO:-0700
TZNAME:PDT
DTSTART:20260308T100000
END:DAYLIGHT
BEGIN:STANDARD
TZOFFSETFROM:-0700
TZOFFSETTO:-0800
TZNAME:PST
DTSTART:20261101T090000
END:STANDARD
BEGIN:DAYLIGHT
TZOFFSETFROM:-0800
TZOFFSETTO:-0700
TZNAME:PDT
DTSTART:20270314T100000
END:DAYLIGHT
BEGIN:STANDARD
TZOFFSETFROM:-0700
TZOFFSETTO:-0800
TZNAME:PST
DTSTART:20271107T090000
END:STANDARD
END:VTIMEZONE
BEGIN:VEVENT
DTSTART;TZID=America/Los_Angeles:20260608T190000
DTEND;TZID=America/Los_Angeles:20260608T200000
DTSTAMP:20260422T110504
CREATED:20260219T003059Z
LAST-MODIFIED:20260219T003839Z
UID:10001576-1780945200-1780948800@dsno.org
SUMMARY:DSNOFit Swim - Spring Session
DESCRIPTION:DSNOFit Swim is a great opportunity for ages 6+ to improve your fitness\, learn new skills\, and hang out with friends! In the Spring session\, participants will continue to learn essential water safety skills and engage in a mix of aqua athletics and open swim. Contact Tiffany with questions. \n \nLog In to Register\nThis event is for DSNO members and requires registration. If you are a DSNO member\, please log in here. Otherwise\, review the benefits of a free membership and join today!\n \n\nSpring Session | Mondays\, March 30 – June 8\, 7-8 PM\nNo class April 6\, May 4\, May 25\, or June 1 \nParticipants ages 6+ will learn essential water safety skills and engage in a mix of aqua athletics and open-swim. Lifeguards and ADA lifts will be available for assistance. Siblings and parents are welcome to join us in the water as well. \nFee: $45 for session or $7 per class. Scholarship requests available here. Registration is required.\n  \nLocation\nHarman Swim Center\n7300 SW Scholls Ferry Rd\, Beaverton \n \nLog In to Register\nThis event is for DSNO members and requires registration. If you are a DSNO member\, please log in here. Otherwise\, review the benefits of a free membership and join today!
URL:https://dsno.org/event/dsnofit-swim-spring-session/2026-06-08/
CATEGORIES:Adults,Family,Kids,Teens,Young Adults
ATTACH;FMTTYPE=image/png:https://dsno.org/wp-content/uploads/2025/04/web-copy-11.png
END:VEVENT
END:VCALENDAR