BEGIN:VCALENDAR
VERSION:2.0
PRODID:-//Down Syndrome Network Oregon - ECPv6.15.20//NONSGML v1.0//EN
CALSCALE:GREGORIAN
METHOD:PUBLISH
X-ORIGINAL-URL:https://dsno.org
X-WR-CALDESC:Events for Down Syndrome Network Oregon
REFRESH-INTERVAL;VALUE=DURATION:PT1H
X-Robots-Tag:noindex
X-PUBLISHED-TTL:PT1H
BEGIN:VTIMEZONE
TZID:America/Los_Angeles
BEGIN:DAYLIGHT
TZOFFSETFROM:-0800
TZOFFSETTO:-0700
TZNAME:PDT
DTSTART:20250309T100000
END:DAYLIGHT
BEGIN:STANDARD
TZOFFSETFROM:-0700
TZOFFSETTO:-0800
TZNAME:PST
DTSTART:20251102T090000
END:STANDARD
BEGIN:DAYLIGHT
TZOFFSETFROM:-0800
TZOFFSETTO:-0700
TZNAME:PDT
DTSTART:20260308T100000
END:DAYLIGHT
BEGIN:STANDARD
TZOFFSETFROM:-0700
TZOFFSETTO:-0800
TZNAME:PST
DTSTART:20261101T090000
END:STANDARD
BEGIN:DAYLIGHT
TZOFFSETFROM:-0800
TZOFFSETTO:-0700
TZNAME:PDT
DTSTART:20270314T100000
END:DAYLIGHT
BEGIN:STANDARD
TZOFFSETFROM:-0700
TZOFFSETTO:-0800
TZNAME:PST
DTSTART:20271107T090000
END:STANDARD
END:VTIMEZONE
BEGIN:VEVENT
DTSTART;TZID=America/Los_Angeles:20260220T170000
DTEND;TZID=America/Los_Angeles:20260220T190000
DTSTAMP:20260422T054816
CREATED:20260202T181056Z
LAST-MODIFIED:20260202T181056Z
UID:10001566-1771606800-1771614000@dsno.org
SUMMARY:Mom's Night Out @ Home in Salem
DESCRIPTION:All moms are invited to join us as we share\, rejoice\, receive support\, and have fun with fellow moms who truly understand our awesome journey. We meet at a new location each month in the Portland-metro and surrounding areas. If you are new to DSNO\, this is a great opportunity to get connected and meet other moms. This month will be hosted at someone’s home in Salem. RSVP to Tiffany here. \nFriday\, February 20 | 5-7 PM\nAddress to home in Salem will be provided upon registration. \nAre you interested in helping to organize or host future gatherings for moms? If so\, contact Tiffany: info@dsno.org
URL:https://dsno.org/event/moms-night-out-2026-02-20/
CATEGORIES:Moms
ATTACH;FMTTYPE=image/png:https://dsno.org/wp-content/uploads/2025/04/web-copy-17.png
END:VEVENT
END:VCALENDAR