BEGIN:VCALENDAR
VERSION:2.0
PRODID:-//Down Syndrome Network Oregon - ECPv6.15.20//NONSGML v1.0//EN
CALSCALE:GREGORIAN
METHOD:PUBLISH
X-WR-CALNAME:Down Syndrome Network Oregon
X-ORIGINAL-URL:https://dsno.org
X-WR-CALDESC:Events for Down Syndrome Network Oregon
REFRESH-INTERVAL;VALUE=DURATION:PT1H
X-Robots-Tag:noindex
X-PUBLISHED-TTL:PT1H
BEGIN:VTIMEZONE
TZID:America/Los_Angeles
BEGIN:DAYLIGHT
TZOFFSETFROM:-0800
TZOFFSETTO:-0700
TZNAME:PDT
DTSTART:20240310T100000
END:DAYLIGHT
BEGIN:STANDARD
TZOFFSETFROM:-0700
TZOFFSETTO:-0800
TZNAME:PST
DTSTART:20241103T090000
END:STANDARD
BEGIN:DAYLIGHT
TZOFFSETFROM:-0800
TZOFFSETTO:-0700
TZNAME:PDT
DTSTART:20250309T100000
END:DAYLIGHT
BEGIN:STANDARD
TZOFFSETFROM:-0700
TZOFFSETTO:-0800
TZNAME:PST
DTSTART:20251102T090000
END:STANDARD
BEGIN:DAYLIGHT
TZOFFSETFROM:-0800
TZOFFSETTO:-0700
TZNAME:PDT
DTSTART:20260308T100000
END:DAYLIGHT
BEGIN:STANDARD
TZOFFSETFROM:-0700
TZOFFSETTO:-0800
TZNAME:PST
DTSTART:20261101T090000
END:STANDARD
END:VTIMEZONE
BEGIN:VEVENT
DTSTART;TZID=America/Los_Angeles:20250711T130000
DTEND;TZID=America/Los_Angeles:20250711T143000
DTSTAMP:20260424T090019
CREATED:20250518T223953Z
LAST-MODIFIED:20250602T215105Z
UID:10000774-1752238800-1752244200@dsno.org
SUMMARY:Adult Summer Camp
DESCRIPTION:Dance instructor Cheryl Landazuri is offering our 2nd annual adult-focused camp. This is a camp your adult student will not want to miss! Registration is required for DSNO members. \n \nCamp is full and registration is closed.\n  \nDates\nJuly 7-11 | 1:00 PM – 4:00 PM (Mon-Thu)\, 1:00 – 2:30 PM (Fri) \nFee\n$249\, scholarship requests available here. \nLocation\nRobinwood Station Community Center (Mon-Thu)\n3706 Cedaroak Dr.\, West Linn \nResidence in West Linn (Fri)\nAddress provided once registered \nWho’s it for?\nAges 18+\, with a maximum capacity of 18 participants \nAdditional Details\nHere’s what to expect on a daily basis: \n\nCircle Up introductions – Meet new friends!\nCardio and stretch warm-ups\nChoreographed dance routine to “Smile” by Katy Perry\nFun in the kitchen learning how to prepare 4 healthy recipes\nSnack break eating the delicious food we made!\nOutdoor volleyball\nArt lessons including drawing and watercolors\nClosing circle & cheer\nAll food\, recipe ingredients\, cooking supplies and art supplies provided.\n\nBe sure to bring plenty of water and wear tennis shoes and comfortable clothing to dance and stretch in. Dance performance and ice cream party for family and friends in the backyard of the home of one of our campers in West Linn on Friday. \n*If your adult child requires additional social and/or behavioral support or tends to wander off\, a parent or caregiver is required to stay and participate as needed. \nQuestions? Contact Tiffany here.
URL:https://dsno.org/event/adult-summer-camp-2025-07-11/
CATEGORIES:Adults
ATTACH;FMTTYPE=image/jpeg:https://dsno.org/wp-content/uploads/2025/05/AdobeStock_554752780-scaled-e1747606527945.jpeg
END:VEVENT
BEGIN:VEVENT
DTSTART;TZID=America/Los_Angeles:20250710T130000
DTEND;TZID=America/Los_Angeles:20250710T160000
DTSTAMP:20260424T090019
CREATED:20250518T221803Z
LAST-MODIFIED:20250602T214940Z
UID:10000773-1752152400-1752163200@dsno.org
SUMMARY:Adult Summer Camp
DESCRIPTION:Dance instructor Cheryl Landazuri is offering our 2nd annual adult-focused camp. This is a camp your adult student will not want to miss! Registration is required for DSNO members. \n \nCamp is full and registration is closed.\n  \nDates\nJuly 7-11 | 1:00 PM – 4:00 PM (Mon-Thu)\, 1:00 – 2:30 PM (Fri) \nFee\n$249\, scholarship requests available here. \nLocation\nRobinwood Station Community Center (Mon-Thu)\n3706 Cedaroak Dr.\, West Linn \nResidence in West Linn (Fri)\nAddress provided once registered \nWho’s it for?\nAges 18+\, with a maximum capacity of 18 participants \nAdditional Details\nHere’s what to expect on a daily basis: \n\nCircle Up introductions – Meet new friends!\nCardio and stretch warm-ups\nChoreographed dance routine to “Smile” by Katy Perry\nFun in the kitchen learning how to prepare 4 healthy recipes\nSnack break eating the delicious food we made!\nOutdoor volleyball\nArt lessons including drawing and watercolors\nClosing circle & cheer\nAll food\, recipe ingredients\, cooking supplies and art supplies provided.\n\nBe sure to bring plenty of water and wear tennis shoes and comfortable clothing to dance and stretch in. Dance performance and ice cream party for family and friends in the backyard of the home of one of our campers in West Linn on Friday. \n*If your adult child requires additional social and/or behavioral support or tends to wander off\, a parent or caregiver is required to stay and participate as needed. \nQuestions? Contact Tiffany here.
URL:https://dsno.org/event/adult-summer-camp-25/2025-07-10/
CATEGORIES:Adults
ATTACH;FMTTYPE=image/jpeg:https://dsno.org/wp-content/uploads/2025/05/AdobeStock_554752780-scaled-e1747606527945.jpeg
END:VEVENT
BEGIN:VEVENT
DTSTART;TZID=America/Los_Angeles:20250709T130000
DTEND;TZID=America/Los_Angeles:20250709T160000
DTSTAMP:20260424T090019
CREATED:20250518T221803Z
LAST-MODIFIED:20250602T214940Z
UID:10000772-1752066000-1752076800@dsno.org
SUMMARY:Adult Summer Camp
DESCRIPTION:Dance instructor Cheryl Landazuri is offering our 2nd annual adult-focused camp. This is a camp your adult student will not want to miss! Registration is required for DSNO members. \n \nCamp is full and registration is closed.\n  \nDates\nJuly 7-11 | 1:00 PM – 4:00 PM (Mon-Thu)\, 1:00 – 2:30 PM (Fri) \nFee\n$249\, scholarship requests available here. \nLocation\nRobinwood Station Community Center (Mon-Thu)\n3706 Cedaroak Dr.\, West Linn \nResidence in West Linn (Fri)\nAddress provided once registered \nWho’s it for?\nAges 18+\, with a maximum capacity of 18 participants \nAdditional Details\nHere’s what to expect on a daily basis: \n\nCircle Up introductions – Meet new friends!\nCardio and stretch warm-ups\nChoreographed dance routine to “Smile” by Katy Perry\nFun in the kitchen learning how to prepare 4 healthy recipes\nSnack break eating the delicious food we made!\nOutdoor volleyball\nArt lessons including drawing and watercolors\nClosing circle & cheer\nAll food\, recipe ingredients\, cooking supplies and art supplies provided.\n\nBe sure to bring plenty of water and wear tennis shoes and comfortable clothing to dance and stretch in. Dance performance and ice cream party for family and friends in the backyard of the home of one of our campers in West Linn on Friday. \n*If your adult child requires additional social and/or behavioral support or tends to wander off\, a parent or caregiver is required to stay and participate as needed. \nQuestions? Contact Tiffany here.
URL:https://dsno.org/event/adult-summer-camp-25/2025-07-09/
CATEGORIES:Adults
ATTACH;FMTTYPE=image/jpeg:https://dsno.org/wp-content/uploads/2025/05/AdobeStock_554752780-scaled-e1747606527945.jpeg
END:VEVENT
BEGIN:VEVENT
DTSTART;TZID=America/Los_Angeles:20250708T130000
DTEND;TZID=America/Los_Angeles:20250708T160000
DTSTAMP:20260424T090019
CREATED:20250518T221803Z
LAST-MODIFIED:20250602T214940Z
UID:10000771-1751979600-1751990400@dsno.org
SUMMARY:Adult Summer Camp
DESCRIPTION:Dance instructor Cheryl Landazuri is offering our 2nd annual adult-focused camp. This is a camp your adult student will not want to miss! Registration is required for DSNO members. \n \nCamp is full and registration is closed.\n  \nDates\nJuly 7-11 | 1:00 PM – 4:00 PM (Mon-Thu)\, 1:00 – 2:30 PM (Fri) \nFee\n$249\, scholarship requests available here. \nLocation\nRobinwood Station Community Center (Mon-Thu)\n3706 Cedaroak Dr.\, West Linn \nResidence in West Linn (Fri)\nAddress provided once registered \nWho’s it for?\nAges 18+\, with a maximum capacity of 18 participants \nAdditional Details\nHere’s what to expect on a daily basis: \n\nCircle Up introductions – Meet new friends!\nCardio and stretch warm-ups\nChoreographed dance routine to “Smile” by Katy Perry\nFun in the kitchen learning how to prepare 4 healthy recipes\nSnack break eating the delicious food we made!\nOutdoor volleyball\nArt lessons including drawing and watercolors\nClosing circle & cheer\nAll food\, recipe ingredients\, cooking supplies and art supplies provided.\n\nBe sure to bring plenty of water and wear tennis shoes and comfortable clothing to dance and stretch in. Dance performance and ice cream party for family and friends in the backyard of the home of one of our campers in West Linn on Friday. \n*If your adult child requires additional social and/or behavioral support or tends to wander off\, a parent or caregiver is required to stay and participate as needed. \nQuestions? Contact Tiffany here.
URL:https://dsno.org/event/adult-summer-camp-25/2025-07-08/
CATEGORIES:Adults
ATTACH;FMTTYPE=image/jpeg:https://dsno.org/wp-content/uploads/2025/05/AdobeStock_554752780-scaled-e1747606527945.jpeg
END:VEVENT
BEGIN:VEVENT
DTSTART;TZID=America/Los_Angeles:20250707T130000
DTEND;TZID=America/Los_Angeles:20250707T160000
DTSTAMP:20260424T090019
CREATED:20250518T221803Z
LAST-MODIFIED:20250602T214940Z
UID:10000770-1751893200-1751904000@dsno.org
SUMMARY:Adult Summer Camp
DESCRIPTION:Dance instructor Cheryl Landazuri is offering our 2nd annual adult-focused camp. This is a camp your adult student will not want to miss! Registration is required for DSNO members. \n \nCamp is full and registration is closed.\n  \nDates\nJuly 7-11 | 1:00 PM – 4:00 PM (Mon-Thu)\, 1:00 – 2:30 PM (Fri) \nFee\n$249\, scholarship requests available here. \nLocation\nRobinwood Station Community Center (Mon-Thu)\n3706 Cedaroak Dr.\, West Linn \nResidence in West Linn (Fri)\nAddress provided once registered \nWho’s it for?\nAges 18+\, with a maximum capacity of 18 participants \nAdditional Details\nHere’s what to expect on a daily basis: \n\nCircle Up introductions – Meet new friends!\nCardio and stretch warm-ups\nChoreographed dance routine to “Smile” by Katy Perry\nFun in the kitchen learning how to prepare 4 healthy recipes\nSnack break eating the delicious food we made!\nOutdoor volleyball\nArt lessons including drawing and watercolors\nClosing circle & cheer\nAll food\, recipe ingredients\, cooking supplies and art supplies provided.\n\nBe sure to bring plenty of water and wear tennis shoes and comfortable clothing to dance and stretch in. Dance performance and ice cream party for family and friends in the backyard of the home of one of our campers in West Linn on Friday. \n*If your adult child requires additional social and/or behavioral support or tends to wander off\, a parent or caregiver is required to stay and participate as needed. \nQuestions? Contact Tiffany here.
URL:https://dsno.org/event/adult-summer-camp-25/2025-07-07/
CATEGORIES:Adults
ATTACH;FMTTYPE=image/jpeg:https://dsno.org/wp-content/uploads/2025/05/AdobeStock_554752780-scaled-e1747606527945.jpeg
END:VEVENT
END:VCALENDAR